BEGIN:VCALENDAR
VERSION:2.0
PRODID:-//Royal Greenwich District - ECPv6.15.20//NONSGML v1.0//EN
CALSCALE:GREGORIAN
METHOD:PUBLISH
X-WR-CALNAME:Royal Greenwich District
X-ORIGINAL-URL:https://www.royalgreenwichscouts.org.uk
X-WR-CALDESC:Events for Royal Greenwich District
REFRESH-INTERVAL;VALUE=DURATION:PT1H
X-Robots-Tag:noindex
X-PUBLISHED-TTL:PT1H
BEGIN:VTIMEZONE
TZID:Europe/London
BEGIN:DAYLIGHT
TZOFFSETFROM:+0000
TZOFFSETTO:+0100
TZNAME:BST
DTSTART:20250330T010000
END:DAYLIGHT
BEGIN:STANDARD
TZOFFSETFROM:+0100
TZOFFSETTO:+0000
TZNAME:GMT
DTSTART:20251026T010000
END:STANDARD
BEGIN:DAYLIGHT
TZOFFSETFROM:+0000
TZOFFSETTO:+0100
TZNAME:BST
DTSTART:20260329T010000
END:DAYLIGHT
BEGIN:STANDARD
TZOFFSETFROM:+0100
TZOFFSETTO:+0000
TZNAME:GMT
DTSTART:20261025T010000
END:STANDARD
BEGIN:DAYLIGHT
TZOFFSETFROM:+0000
TZOFFSETTO:+0100
TZNAME:BST
DTSTART:20270328T010000
END:DAYLIGHT
BEGIN:STANDARD
TZOFFSETFROM:+0100
TZOFFSETTO:+0000
TZNAME:GMT
DTSTART:20271031T010000
END:STANDARD
END:VTIMEZONE
BEGIN:VEVENT
DTSTART;TZID=Europe/London:20260314T130000
DTEND;TZID=Europe/London:20260314T130000
DTSTAMP:20260421T165722
CREATED:20251026T130355Z
LAST-MODIFIED:20251026T130355Z
UID:7763-1773493200-1773493200@www.royalgreenwichscouts.org.uk
SUMMARY:Cub Backwoods Cooking Avery Hill Cub Team
DESCRIPTION:Cub Backwoods Cooking Avery Hill Cub Team – This event is part of the Royal Greenwich Scouts 2025–26 District Diary. It will take place on Saturday 14 March 2026 at 13:00. It’s an opportunity for Cub Leaders to plan and exchange programme ideas across the district.
URL:https://www.royalgreenwichscouts.org.uk/event/cub-backwoods-cooking-avery-hill-cub-team
CATEGORIES:Cubs
END:VEVENT
END:VCALENDAR