BEGIN:VCALENDAR
VERSION:2.0
PRODID:-//Royal Greenwich District - ECPv6.15.20//NONSGML v1.0//EN
CALSCALE:GREGORIAN
METHOD:PUBLISH
X-WR-CALNAME:Royal Greenwich District
X-ORIGINAL-URL:https://www.royalgreenwichscouts.org.uk
X-WR-CALDESC:Events for Royal Greenwich District
REFRESH-INTERVAL;VALUE=DURATION:PT1H
X-Robots-Tag:noindex
X-PUBLISHED-TTL:PT1H
BEGIN:VTIMEZONE
TZID:Europe/London
BEGIN:DAYLIGHT
TZOFFSETFROM:+0000
TZOFFSETTO:+0100
TZNAME:BST
DTSTART:20220327T010000
END:DAYLIGHT
BEGIN:STANDARD
TZOFFSETFROM:+0100
TZOFFSETTO:+0000
TZNAME:GMT
DTSTART:20221030T010000
END:STANDARD
BEGIN:DAYLIGHT
TZOFFSETFROM:+0000
TZOFFSETTO:+0100
TZNAME:BST
DTSTART:20230326T010000
END:DAYLIGHT
BEGIN:STANDARD
TZOFFSETFROM:+0100
TZOFFSETTO:+0000
TZNAME:GMT
DTSTART:20231029T010000
END:STANDARD
BEGIN:DAYLIGHT
TZOFFSETFROM:+0000
TZOFFSETTO:+0100
TZNAME:BST
DTSTART:20240331T010000
END:DAYLIGHT
BEGIN:STANDARD
TZOFFSETFROM:+0100
TZOFFSETTO:+0000
TZNAME:GMT
DTSTART:20241027T010000
END:STANDARD
END:VTIMEZONE
BEGIN:VEVENT
DTSTART;TZID=Europe/London:20231015T140000
DTEND;TZID=Europe/London:20231015T160000
DTSTAMP:20260423T104818
CREATED:20230922T123202Z
LAST-MODIFIED:20230922T123202Z
UID:6340-1697378400-1697385600@www.royalgreenwichscouts.org.uk
SUMMARY:Cub Cake Decorating
DESCRIPTION:
URL:https://www.royalgreenwichscouts.org.uk/event/cub-cake-decorating
LOCATION:The Crescent\, District Scout Centre\, 19 Waverley Crescent\, Plumstead\, London\, SE18 7QT
CATEGORIES:Cubs
END:VEVENT
BEGIN:VEVENT
DTSTART;VALUE=DATE:20231021
DTEND;VALUE=DATE:20231023
DTSTAMP:20260423T104818
CREATED:20230922T124301Z
LAST-MODIFIED:20230922T124301Z
UID:6357-1697850000-1697936399@www.royalgreenwichscouts.org.uk
SUMMARY:JOTA/JOTI
DESCRIPTION:
URL:https://www.royalgreenwichscouts.org.uk/event/jota-joti
LOCATION:Sevendroog Castle\, Shooters Hill\, London\, SE18 3RT
CATEGORIES:Beavers,Cubs,Explorers,Network,Scouts
END:VEVENT
END:VCALENDAR